BEGIN:VCALENDAR
VERSION:2.0
PRODID:-//ChurchDev//Events//EN
CALSCALE:GREGORIAN
METHOD:PUBLISH
BEGIN:VEVENT
UID:3359-20200811@www.hopefellowshiphfc.org
SUMMARY:The Porch &#8211\; Young Adults
DTSTART:20200812T003000Z
DTEND:20200812T020000Z
DESCRIPTION:https://www.hopefellowshiphfc.org/events/the-porch-young-adults/
LOCATION:3832 S. Peoria Ave\, Tulsa OK
URL:https://www.hopefellowshiphfc.org/events/the-porch-young-adults/
DTSTAMP:20260419T215809Z
END:VEVENT
END:VCALENDAR
